BEGIN:VCALENDAR
VERSION:2.0
PRODID:-//SITIS | Praktijkmanagement &amp; Scholing in de Huisartsenzorg - ECPv6.15.20//NONSGML v1.0//EN
CALSCALE:GREGORIAN
METHOD:PUBLISH
X-ORIGINAL-URL:https://www.sitis.nl
X-WR-CALDESC:Lessen voor SITIS | Praktijkmanagement &amp; Scholing in de Huisartsenzorg
REFRESH-INTERVAL;VALUE=DURATION:PT1H
X-Robots-Tag:noindex
X-PUBLISHED-TTL:PT1H
BEGIN:VTIMEZONE
TZID:Europe/Amsterdam
BEGIN:DAYLIGHT
TZOFFSETFROM:+0100
TZOFFSETTO:+0200
TZNAME:CEST
DTSTART:20250330T010000
END:DAYLIGHT
BEGIN:STANDARD
TZOFFSETFROM:+0200
TZOFFSETTO:+0100
TZNAME:CET
DTSTART:20251026T010000
END:STANDARD
BEGIN:DAYLIGHT
TZOFFSETFROM:+0100
TZOFFSETTO:+0200
TZNAME:CEST
DTSTART:20260329T010000
END:DAYLIGHT
BEGIN:STANDARD
TZOFFSETFROM:+0200
TZOFFSETTO:+0100
TZNAME:CET
DTSTART:20261025T010000
END:STANDARD
BEGIN:DAYLIGHT
TZOFFSETFROM:+0100
TZOFFSETTO:+0200
TZNAME:CEST
DTSTART:20270328T010000
END:DAYLIGHT
BEGIN:STANDARD
TZOFFSETFROM:+0200
TZOFFSETTO:+0100
TZNAME:CET
DTSTART:20271031T010000
END:STANDARD
BEGIN:DAYLIGHT
TZOFFSETFROM:+0100
TZOFFSETTO:+0200
TZNAME:CEST
DTSTART:20280326T010000
END:DAYLIGHT
BEGIN:STANDARD
TZOFFSETFROM:+0200
TZOFFSETTO:+0100
TZNAME:CET
DTSTART:20281029T010000
END:STANDARD
END:VTIMEZONE
BEGIN:VEVENT
DTSTART;TZID=Europe/Amsterdam:20260430T100000
DTEND;TZID=Europe/Amsterdam:20260430T100000
DTSTAMP:20260423T144725
CREATED:20250902T134730Z
LAST-MODIFIED:20250903T121427Z
UID:10000370-1777543200-1777543200@www.sitis.nl
SUMMARY:Lesdag 10 Eenjarige opleiding - 30-04-2026
DESCRIPTION:
URL:https://www.sitis.nl/les/lesdag-10-eenjarige-opleiding-30-04-2026/
LOCATION:De Agnietenberg | Zwolle\, Haersterveerweg 23\, Zwolle\, Overijssel\, 8034 PJ\, Netherlands
CATEGORIES:Eenjarige opleiding
END:VEVENT
BEGIN:VEVENT
DTSTART;TZID=Europe/Amsterdam:20260507T100000
DTEND;TZID=Europe/Amsterdam:20260507T100000
DTSTAMP:20260423T144725
CREATED:20251030T120839Z
LAST-MODIFIED:20251030T120839Z
UID:10000429-1778148000-1778148000@www.sitis.nl
SUMMARY:Lesdag 5 Vervolgopleiding - Zwolle Voorjaar 2026
DESCRIPTION:
URL:https://www.sitis.nl/les/lesdag-5-vervolgopleiding-zwolle-voorjaar-2026/
LOCATION:De Agnietenberg | Zwolle\, Haersterveerweg 23\, Zwolle\, Overijssel\, 8034 PJ\, Netherlands
CATEGORIES:Vervolgopleiding
END:VEVENT
BEGIN:VEVENT
DTSTART;TZID=Europe/Amsterdam:20260512T100000
DTEND;TZID=Europe/Amsterdam:20260512T100000
DTSTAMP:20260423T144725
CREATED:20251030T121105Z
LAST-MODIFIED:20251030T121105Z
UID:10000435-1778580000-1778580000@www.sitis.nl
SUMMARY:Lesdag 5 Basisopleiding - Zwolle Voorjaar 2026
DESCRIPTION:
URL:https://www.sitis.nl/les/lesdag-5-basisopleiding-zwolle-voorjaar-2026/
LOCATION:De Agnietenberg | Zwolle\, Haersterveerweg 23\, Zwolle\, Overijssel\, 8034 PJ\, Netherlands
CATEGORIES:Basisopleiding
END:VEVENT
BEGIN:VEVENT
DTSTART;TZID=Europe/Amsterdam:20260513T100000
DTEND;TZID=Europe/Amsterdam:20260513T100000
DTSTAMP:20260423T144725
CREATED:20251030T114912Z
LAST-MODIFIED:20251030T114912Z
UID:10000416-1778666400-1778666400@www.sitis.nl
SUMMARY:Lesdag 4 Eenjarige opleiding - Zwolle Voorjaar 2026
DESCRIPTION:
URL:https://www.sitis.nl/les/lesdag-4-eenjarige-opleiding-zwolle-voorjaar-2026/
LOCATION:De Agnietenberg | Zwolle\, Haersterveerweg 23\, Zwolle\, Overijssel\, 8034 PJ\, Netherlands
CATEGORIES:Eenjarige opleiding
END:VEVENT
BEGIN:VEVENT
DTSTART;TZID=Europe/Amsterdam:20260521T100000
DTEND;TZID=Europe/Amsterdam:20260521T100000
DTSTAMP:20260423T144725
CREATED:20250903T111438Z
LAST-MODIFIED:20250903T121541Z
UID:10000374-1779357600-1779357600@www.sitis.nl
SUMMARY:Lesdag 11 Eenjarige opleiding - 21-05-2026
DESCRIPTION:
URL:https://www.sitis.nl/les/lesdag-11-eenjarige-opleiding-21-05-2026/
LOCATION:De Agnietenberg | Zwolle\, Haersterveerweg 23\, Zwolle\, Overijssel\, 8034 PJ\, Netherlands
CATEGORIES:Eenjarige opleiding
END:VEVENT
BEGIN:VEVENT
DTSTART;TZID=Europe/Amsterdam:20260602T100000
DTEND;TZID=Europe/Amsterdam:20260602T100000
DTSTAMP:20260423T144725
CREATED:20250903T111438Z
LAST-MODIFIED:20250903T121542Z
UID:10000377-1780394400-1780394400@www.sitis.nl
SUMMARY:Lesdag 6 Vervolgopleiding - 02-06-2026
DESCRIPTION:
URL:https://www.sitis.nl/les/lesdag-6-vervolgopleiding-02-06-2026/
LOCATION:De Agnietenberg | Zwolle\, Haersterveerweg 23\, Zwolle\, Overijssel\, 8034 PJ\, Netherlands
CATEGORIES:Vervolgopleiding
END:VEVENT
BEGIN:VEVENT
DTSTART;TZID=Europe/Amsterdam:20260602T100000
DTEND;TZID=Europe/Amsterdam:20260602T100000
DTSTAMP:20260423T144725
CREATED:20251030T120843Z
LAST-MODIFIED:20251030T120843Z
UID:10000430-1780394400-1780394400@www.sitis.nl
SUMMARY:Lesdag 6 Vervolgopleiding - Zwolle Voorjaar 2026
DESCRIPTION:
URL:https://www.sitis.nl/les/lesdag-6-vervolgopleiding-zwolle-voorjaar-2026/
LOCATION:De Agnietenberg | Zwolle\, Haersterveerweg 23\, Zwolle\, Overijssel\, 8034 PJ\, Netherlands
CATEGORIES:Vervolgopleiding
END:VEVENT
BEGIN:VEVENT
DTSTART;TZID=Europe/Amsterdam:20260603T100000
DTEND;TZID=Europe/Amsterdam:20260603T100000
DTSTAMP:20260423T144725
CREATED:20251030T114913Z
LAST-MODIFIED:20251030T114913Z
UID:10000417-1780480800-1780480800@www.sitis.nl
SUMMARY:Lesdag 5 Eenjarige opleiding - Zwolle Voorjaar 2026
DESCRIPTION:
URL:https://www.sitis.nl/les/lesdag-5-eenjarige-opleiding-zwolle-voorjaar-2026/
LOCATION:De Agnietenberg | Zwolle\, Haersterveerweg 23\, Zwolle\, Overijssel\, 8034 PJ\, Netherlands
CATEGORIES:Eenjarige opleiding
END:VEVENT
BEGIN:VEVENT
DTSTART;TZID=Europe/Amsterdam:20260609T100000
DTEND;TZID=Europe/Amsterdam:20260609T100000
DTSTAMP:20260423T144725
CREATED:20251030T121109Z
LAST-MODIFIED:20251030T121109Z
UID:10000436-1780999200-1780999200@www.sitis.nl
SUMMARY:Lesdag 6 Basisopleiding - Zwolle Voorjaar 2026
DESCRIPTION:
URL:https://www.sitis.nl/les/lesdag-6-basisopleiding-zwolle-voorjaar-2026/
LOCATION:De Agnietenberg | Zwolle\, Haersterveerweg 23\, Zwolle\, Overijssel\, 8034 PJ\, Netherlands
CATEGORIES:Basisopleiding
END:VEVENT
BEGIN:VEVENT
DTSTART;TZID=Europe/Amsterdam:20260618T100000
DTEND;TZID=Europe/Amsterdam:20260618T170000
DTSTAMP:20260423T144725
CREATED:20251110T153731Z
LAST-MODIFIED:20251110T153731Z
UID:10000467-1781776800-1781802000@www.sitis.nl
SUMMARY:Lesdag 12 Eenjarige opleiding 18-06-2026
DESCRIPTION:
URL:https://www.sitis.nl/les/lesdag-12-eenjarige-opleiding-18-06-2026-2/
LOCATION:De Agnietenberg | Zwolle\, Haersterveerweg 23\, Zwolle\, Overijssel\, 8034 PJ\, Netherlands
CATEGORIES:Eenjarige opleiding
ORGANIZER;CN="Sitis":MAILTO:info@sitis.nl
END:VEVENT
BEGIN:VEVENT
DTSTART;TZID=Europe/Amsterdam:20260625T100000
DTEND;TZID=Europe/Amsterdam:20260625T100000
DTSTAMP:20260423T144725
CREATED:20251030T114917Z
LAST-MODIFIED:20251030T114917Z
UID:10000418-1782381600-1782381600@www.sitis.nl
SUMMARY:Lesdag 6 Eenjarige opleiding - Zwolle Voorjaar 2026
DESCRIPTION:
URL:https://www.sitis.nl/les/lesdag-6-eenjarige-opleiding-zwolle-voorjaar-2026/
LOCATION:De Agnietenberg | Zwolle\, Haersterveerweg 23\, Zwolle\, Overijssel\, 8034 PJ\, Netherlands
CATEGORIES:Eenjarige opleiding
END:VEVENT
BEGIN:VEVENT
DTSTART;TZID=Europe/Amsterdam:20260630T100000
DTEND;TZID=Europe/Amsterdam:20260630T100000
DTSTAMP:20260423T144725
CREATED:20251030T121109Z
LAST-MODIFIED:20251030T121109Z
UID:10000437-1782813600-1782813600@www.sitis.nl
SUMMARY:Lesdag 7 Basisopleiding - Zwolle Voorjaar 2026
DESCRIPTION:
URL:https://www.sitis.nl/les/lesdag-7-basisopleiding-zwolle-voorjaar-2026/
LOCATION:De Agnietenberg | Zwolle\, Haersterveerweg 23\, Zwolle\, Overijssel\, 8034 PJ\, Netherlands
CATEGORIES:Basisopleiding
END:VEVENT
BEGIN:VEVENT
DTSTART;TZID=Europe/Amsterdam:20260915T080000
DTEND;TZID=Europe/Amsterdam:20260915T170000
DTSTAMP:20260423T144725
CREATED:20260224T090734Z
LAST-MODIFIED:20260224T090734Z
UID:10000484-1789459200-1789491600@www.sitis.nl
SUMMARY:Lesdag 1 Basisopleiding – Zwolle Najaar 2026
DESCRIPTION:
URL:https://www.sitis.nl/les/lesdag-1-basisopleiding-zwolle-najaar-2026/
LOCATION:De Agnietenberg | Zwolle\, Haersterveerweg 23\, Zwolle\, Overijssel\, 8034 PJ\, Netherlands
CATEGORIES:Basisopleiding
ORGANIZER;CN="Sitis":MAILTO:info@sitis.nl
END:VEVENT
BEGIN:VEVENT
DTSTART;TZID=Europe/Amsterdam:20260917T100000
DTEND;TZID=Europe/Amsterdam:20260917T100000
DTSTAMP:20260423T144725
CREATED:20251030T114917Z
LAST-MODIFIED:20251030T114917Z
UID:10000419-1789639200-1789639200@www.sitis.nl
SUMMARY:Lesdag 7 Eenjarige opleiding - Zwolle Voorjaar 2026
DESCRIPTION:
URL:https://www.sitis.nl/les/lesdag-7-eenjarige-opleiding-zwolle-voorjaar-2026/
LOCATION:De Agnietenberg | Zwolle\, Haersterveerweg 23\, Zwolle\, Overijssel\, 8034 PJ\, Netherlands
CATEGORIES:Eenjarige opleiding
END:VEVENT
BEGIN:VEVENT
DTSTART;TZID=Europe/Amsterdam:20261007T080000
DTEND;TZID=Europe/Amsterdam:20261007T170000
DTSTAMP:20260423T144725
CREATED:20260224T090900Z
LAST-MODIFIED:20260224T090917Z
UID:10000485-1791360000-1791392400@www.sitis.nl
SUMMARY:Lesdag 2 Basisopleiding – Zwolle Najaar 2026
DESCRIPTION:
URL:https://www.sitis.nl/les/lesdag-2-basisopleiding-zwolle-najaar-2026/
LOCATION:De Agnietenberg | Zwolle\, Haersterveerweg 23\, Zwolle\, Overijssel\, 8034 PJ\, Netherlands
CATEGORIES:Basisopleiding
ORGANIZER;CN="Sitis":MAILTO:info@sitis.nl
END:VEVENT
BEGIN:VEVENT
DTSTART;TZID=Europe/Amsterdam:20261008T100000
DTEND;TZID=Europe/Amsterdam:20261008T100000
DTSTAMP:20260423T144725
CREATED:20251030T114918Z
LAST-MODIFIED:20251030T114918Z
UID:10000420-1791453600-1791453600@www.sitis.nl
SUMMARY:Lesdag 8 Eenjarige opleiding - Zwolle Voorjaar 2026
DESCRIPTION:
URL:https://www.sitis.nl/les/lesdag-8-eenjarige-opleiding-zwolle-voorjaar-2026/
LOCATION:De Agnietenberg | Zwolle\, Haersterveerweg 23\, Zwolle\, Overijssel\, 8034 PJ\, Netherlands
CATEGORIES:Eenjarige opleiding
END:VEVENT
BEGIN:VEVENT
DTSTART;TZID=Europe/Amsterdam:20261020T100000
DTEND;TZID=Europe/Amsterdam:20261020T170000
DTSTAMP:20260423T144725
CREATED:20260224T092137Z
LAST-MODIFIED:20260224T092137Z
UID:10000497-1792490400-1792515600@www.sitis.nl
SUMMARY:Lesdag 1 Eenjarige opleiding - Zwolle Najaar 2026
DESCRIPTION:
URL:https://www.sitis.nl/les/lesdag-1-eenjarige-opleiding-zwolle-najaar-2026/
LOCATION:De Agnietenberg | Zwolle\, Haersterveerweg 23\, Zwolle\, Overijssel\, 8034 PJ\, Netherlands
CATEGORIES:Eenjarige opleiding
END:VEVENT
BEGIN:VEVENT
DTSTART;TZID=Europe/Amsterdam:20261027T080000
DTEND;TZID=Europe/Amsterdam:20261027T170000
DTSTAMP:20260423T144725
CREATED:20260224T091006Z
LAST-MODIFIED:20260224T091006Z
UID:10000486-1793088000-1793120400@www.sitis.nl
SUMMARY:Lesdag 3 Basisopleiding – Zwolle Najaar 2026
DESCRIPTION:
URL:https://www.sitis.nl/les/lesdag-3-basisopleiding-zwolle-najaar-2026/
LOCATION:De Agnietenberg | Zwolle\, Haersterveerweg 23\, Zwolle\, Overijssel\, 8034 PJ\, Netherlands
CATEGORIES:Basisopleiding
ORGANIZER;CN="Sitis":MAILTO:info@sitis.nl
END:VEVENT
BEGIN:VEVENT
DTSTART;TZID=Europe/Amsterdam:20261029T100000
DTEND;TZID=Europe/Amsterdam:20261029T100000
DTSTAMP:20260423T144725
CREATED:20251030T114918Z
LAST-MODIFIED:20251030T114918Z
UID:10000421-1793268000-1793268000@www.sitis.nl
SUMMARY:Lesdag 9 Eenjarige opleiding - Zwolle Voorjaar 2026
DESCRIPTION:
URL:https://www.sitis.nl/les/lesdag-9-eenjarige-opleiding-zwolle-voorjaar-2026/
LOCATION:De Agnietenberg | Zwolle\, Haersterveerweg 23\, Zwolle\, Overijssel\, 8034 PJ\, Netherlands
CATEGORIES:Eenjarige opleiding
END:VEVENT
BEGIN:VEVENT
DTSTART;TZID=Europe/Amsterdam:20261103T100000
DTEND;TZID=Europe/Amsterdam:20261103T100000
DTSTAMP:20260423T144725
CREATED:20260224T091545Z
LAST-MODIFIED:20260224T091545Z
UID:10000491-1793700000-1793700000@www.sitis.nl
SUMMARY:Lesdag 1 Vervolgopleiding - Zwolle Najaar 2026
DESCRIPTION:
URL:https://www.sitis.nl/les/lesdag-1-vervolgopleiding-zwolle-najaar-2026/
LOCATION:De Agnietenberg | Zwolle\, Haersterveerweg 23\, Zwolle\, Overijssel\, 8034 PJ\, Netherlands
CATEGORIES:Vervolgopleiding
ORGANIZER;CN="Sitis":MAILTO:info@sitis.nl
END:VEVENT
BEGIN:VEVENT
DTSTART;TZID=Europe/Amsterdam:20261110T100000
DTEND;TZID=Europe/Amsterdam:20261110T170000
DTSTAMP:20260423T144725
CREATED:20260224T092535Z
LAST-MODIFIED:20260224T092620Z
UID:10000498-1794304800-1794330000@www.sitis.nl
SUMMARY:Lesdag 2 Eenjarige opleiding - Zwolle Najaar 2026
DESCRIPTION:
URL:https://www.sitis.nl/les/lesdag-2-eenjarige-opleiding-zwolle-najaar-2026-2/
LOCATION:De Agnietenberg | Zwolle\, Haersterveerweg 23\, Zwolle\, Overijssel\, 8034 PJ\, Netherlands
CATEGORIES:Eenjarige opleiding
END:VEVENT
BEGIN:VEVENT
DTSTART;TZID=Europe/Amsterdam:20261117T080000
DTEND;TZID=Europe/Amsterdam:20261117T170000
DTSTAMP:20260423T144725
CREATED:20260224T091038Z
LAST-MODIFIED:20260224T091038Z
UID:10000487-1794902400-1794934800@www.sitis.nl
SUMMARY:Lesdag 4 Basisopleiding – Zwolle Najaar 2026
DESCRIPTION:
URL:https://www.sitis.nl/les/lesdag-4-basisopleiding-zwolle-najaar-2026/
LOCATION:De Agnietenberg | Zwolle\, Haersterveerweg 23\, Zwolle\, Overijssel\, 8034 PJ\, Netherlands
CATEGORIES:Basisopleiding
ORGANIZER;CN="Sitis":MAILTO:info@sitis.nl
END:VEVENT
BEGIN:VEVENT
DTSTART;TZID=Europe/Amsterdam:20261119T100000
DTEND;TZID=Europe/Amsterdam:20261119T100000
DTSTAMP:20260423T144725
CREATED:20251030T114918Z
LAST-MODIFIED:20251030T114918Z
UID:10000422-1795082400-1795082400@www.sitis.nl
SUMMARY:Lesdag 10 Eenjarige opleiding - Zwolle Voorjaar 2026
DESCRIPTION:
URL:https://www.sitis.nl/les/lesdag-10-eenjarige-opleiding-zwolle-voorjaar-2026/
LOCATION:De Agnietenberg | Zwolle\, Haersterveerweg 23\, Zwolle\, Overijssel\, 8034 PJ\, Netherlands
CATEGORIES:Eenjarige opleiding
END:VEVENT
BEGIN:VEVENT
DTSTART;TZID=Europe/Amsterdam:20261124T100000
DTEND;TZID=Europe/Amsterdam:20261124T100000
DTSTAMP:20260423T144725
CREATED:20260224T091643Z
LAST-MODIFIED:20260224T091643Z
UID:10000492-1795514400-1795514400@www.sitis.nl
SUMMARY:Lesdag 2 Vervolgopleiding - Zwolle Najaar 2026
DESCRIPTION:
URL:https://www.sitis.nl/les/lesdag-2-vervolgopleiding-zwolle-najaar-2026/
LOCATION:De Agnietenberg | Zwolle\, Haersterveerweg 23\, Zwolle\, Overijssel\, 8034 PJ\, Netherlands
CATEGORIES:Vervolgopleiding
ORGANIZER;CN="Sitis":MAILTO:info@sitis.nl
END:VEVENT
BEGIN:VEVENT
DTSTART;TZID=Europe/Amsterdam:20261201T100000
DTEND;TZID=Europe/Amsterdam:20261201T170000
DTSTAMP:20260423T144725
CREATED:20260224T092721Z
LAST-MODIFIED:20260224T092721Z
UID:10000499-1796119200-1796144400@www.sitis.nl
SUMMARY:Lesdag 3 Eenjarige opleiding - Zwolle Najaar 2026
DESCRIPTION:
URL:https://www.sitis.nl/les/lesdag-3-eenjarige-opleiding-zwolle-najaar-2026/
LOCATION:De Agnietenberg | Zwolle\, Haersterveerweg 23\, Zwolle\, Overijssel\, 8034 PJ\, Netherlands
CATEGORIES:Eenjarige opleiding
END:VEVENT
BEGIN:VEVENT
DTSTART;TZID=Europe/Amsterdam:20261215T080000
DTEND;TZID=Europe/Amsterdam:20261215T170000
DTSTAMP:20260423T144725
CREATED:20260224T091101Z
LAST-MODIFIED:20260224T091101Z
UID:10000488-1797321600-1797354000@www.sitis.nl
SUMMARY:Lesdag 5 Basisopleiding – Zwolle Najaar 2026
DESCRIPTION:
URL:https://www.sitis.nl/les/lesdag-5-basisopleiding-zwolle-najaar-2026/
LOCATION:De Agnietenberg | Zwolle\, Haersterveerweg 23\, Zwolle\, Overijssel\, 8034 PJ\, Netherlands
CATEGORIES:Basisopleiding
ORGANIZER;CN="Sitis":MAILTO:info@sitis.nl
END:VEVENT
BEGIN:VEVENT
DTSTART;TZID=Europe/Amsterdam:20261216T100000
DTEND;TZID=Europe/Amsterdam:20261216T100000
DTSTAMP:20260423T144725
CREATED:20260224T091707Z
LAST-MODIFIED:20260224T091707Z
UID:10000493-1797415200-1797415200@www.sitis.nl
SUMMARY:Lesdag 3 Vervolgopleiding - Zwolle Najaar 2026
DESCRIPTION:
URL:https://www.sitis.nl/les/lesdag-3-vervolgopleiding-zwolle-najaar-2026/
LOCATION:De Agnietenberg | Zwolle\, Haersterveerweg 23\, Zwolle\, Overijssel\, 8034 PJ\, Netherlands
CATEGORIES:Vervolgopleiding
ORGANIZER;CN="Sitis":MAILTO:info@sitis.nl
END:VEVENT
BEGIN:VEVENT
DTSTART;TZID=Europe/Amsterdam:20261217T100000
DTEND;TZID=Europe/Amsterdam:20261217T100000
DTSTAMP:20260423T144725
CREATED:20251030T114932Z
LAST-MODIFIED:20251030T114932Z
UID:10000423-1797501600-1797501600@www.sitis.nl
SUMMARY:Lesdag 11 Eenjarige opleiding - Zwolle Voorjaar 2026
DESCRIPTION:
URL:https://www.sitis.nl/les/lesdag-11-eenjarige-opleiding-zwolle-voorjaar-2026/
LOCATION:De Agnietenberg | Zwolle\, Haersterveerweg 23\, Zwolle\, Overijssel\, 8034 PJ\, Netherlands
CATEGORIES:Eenjarige opleiding
END:VEVENT
BEGIN:VEVENT
DTSTART;TZID=Europe/Amsterdam:20270105T100000
DTEND;TZID=Europe/Amsterdam:20270105T170000
DTSTAMP:20260423T144725
CREATED:20260224T093147Z
LAST-MODIFIED:20260224T093147Z
UID:10000500-1799143200-1799168400@www.sitis.nl
SUMMARY:Lesdag 4 Eenjarige opleiding - Zwolle Najaar 2026
DESCRIPTION:
URL:https://www.sitis.nl/les/lesdag-4-eenjarige-opleiding-zwolle-najaar-2026/
LOCATION:De Agnietenberg | Zwolle\, Haersterveerweg 23\, Zwolle\, Overijssel\, 8034 PJ\, Netherlands
CATEGORIES:Eenjarige opleiding
END:VEVENT
BEGIN:VEVENT
DTSTART;TZID=Europe/Amsterdam:20270112T080000
DTEND;TZID=Europe/Amsterdam:20270112T170000
DTSTAMP:20260423T144725
CREATED:20260224T091148Z
LAST-MODIFIED:20260224T091148Z
UID:10000489-1799740800-1799773200@www.sitis.nl
SUMMARY:Lesdag 6 Basisopleiding – Zwolle Najaar 2026
DESCRIPTION:
URL:https://www.sitis.nl/les/lesdag-6-basisopleiding-zwolle-najaar-2026/
LOCATION:De Agnietenberg | Zwolle\, Haersterveerweg 23\, Zwolle\, Overijssel\, 8034 PJ\, Netherlands
CATEGORIES:Basisopleiding
ORGANIZER;CN="Sitis":MAILTO:info@sitis.nl
END:VEVENT
END:VCALENDAR